BEGIN:VCALENDAR
VERSION:2.0
PRODID:-//Richland Academy of the Arts - ECPv6.15.20//NONSGML v1.0//EN
CALSCALE:GREGORIAN
METHOD:PUBLISH
X-ORIGINAL-URL:https://richlandacademy.com
X-WR-CALDESC:Events for Richland Academy of the Arts
REFRESH-INTERVAL;VALUE=DURATION:PT1H
X-Robots-Tag:noindex
X-PUBLISHED-TTL:PT1H
BEGIN:VTIMEZONE
TZID:America/New_York
BEGIN:DAYLIGHT
TZOFFSETFROM:-0500
TZOFFSETTO:-0400
TZNAME:EDT
DTSTART:20230312T070000
END:DAYLIGHT
BEGIN:STANDARD
TZOFFSETFROM:-0400
TZOFFSETTO:-0500
TZNAME:EST
DTSTART:20231105T060000
END:STANDARD
BEGIN:DAYLIGHT
TZOFFSETFROM:-0500
TZOFFSETTO:-0400
TZNAME:EDT
DTSTART:20240310T070000
END:DAYLIGHT
BEGIN:STANDARD
TZOFFSETFROM:-0400
TZOFFSETTO:-0500
TZNAME:EST
DTSTART:20241103T060000
END:STANDARD
BEGIN:DAYLIGHT
TZOFFSETFROM:-0500
TZOFFSETTO:-0400
TZNAME:EDT
DTSTART:20250309T070000
END:DAYLIGHT
BEGIN:STANDARD
TZOFFSETFROM:-0400
TZOFFSETTO:-0500
TZNAME:EST
DTSTART:20251102T060000
END:STANDARD
END:VTIMEZONE
BEGIN:VEVENT
DTSTART;VALUE=DATE:20240602
DTEND;VALUE=DATE:20240604
DTSTAMP:20260423T061350
CREATED:20240423T202213Z
LAST-MODIFIED:20240423T202213Z
UID:4016-1717358400-1717444799@richlandacademy.com
SUMMARY:RAA Summer Semester Begins
DESCRIPTION:
URL:https://richlandacademy.com/event/raa-summer-semester-begins/
LOCATION:Richland Academy of the Arts\, 75 North Walnut Street\, Mansfield\, OH\, 44902\, United States
END:VEVENT
BEGIN:VEVENT
DTSTART;VALUE=DATE:20240602
DTEND;VALUE=DATE:20240604
DTSTAMP:20260423T061350
CREATED:20240423T202249Z
LAST-MODIFIED:20240423T202249Z
UID:4017-1717358400-1717444799@richlandacademy.com
SUMMARY:1st Payment Summer Semester DUE
DESCRIPTION:
URL:https://richlandacademy.com/event/1st-payment-summer-semester-due/
LOCATION:Richland Academy of the Arts\, 75 North Walnut Street\, Mansfield\, OH\, 44902\, United States
END:VEVENT
BEGIN:VEVENT
DTSTART;VALUE=DATE:20240605
DTEND;VALUE=DATE:20240607
DTSTAMP:20260423T061350
CREATED:20240423T202651Z
LAST-MODIFIED:20240423T202934Z
UID:4022-1717617600-1717703999@richlandacademy.com
SUMMARY:RAA Scholarship Fundraiser Kickoff
DESCRIPTION:
URL:https://richlandacademy.com/event/raa-scholarship-fundraiser-kickoff/
LOCATION:Richland Academy of the Arts\, 75 North Walnut Street\, Mansfield\, OH\, 44902\, United States
END:VEVENT
BEGIN:VEVENT
DTSTART;TZID=America/New_York:20240606T140000
DTEND;TZID=America/New_York:20240627T160000
DTSTAMP:20260423T061350
CREATED:20240607T023353Z
LAST-MODIFIED:20240607T023353Z
UID:5075-1717682400-1719504000@richlandacademy.com
SUMMARY:RAA Scholarship Fundraiser
DESCRIPTION:Join us for an exciting virtual event Enjoy recorded entertainment & win amazing prizes from The Inn at Honey Run\, Hudson & Essex\, Alice Noble Ice Arena\, and more on June 27\, from 6-8 PM!RAA’s Sing Dance Act Now Student Scholarship Fundraiser will:– Provide enriching programs to all students of all backgrounds– Make the arts accessible to all communities– Fund our Merit Scholarships
URL:https://richlandacademy.com/event/raa-scholarship-fundraiser/
LOCATION:Richland Academy of the Arts\, 75 North Walnut Street\, Mansfield\, OH\, 44902\, United States
ORGANIZER;CN="Richland Academy of the Arts":MAILTO:Frontdesk@richlandacademy.com
END:VEVENT
BEGIN:VEVENT
DTSTART;TZID=America/New_York:20240607T073000
DTEND;TZID=America/New_York:20240607T093000
DTSTAMP:20260423T061350
CREATED:20240606T184140Z
LAST-MODIFIED:20240606T184149Z
UID:5061-1717745400-1717752600@richlandacademy.com
SUMMARY:Community Event: Live @ Lunch
DESCRIPTION:
URL:https://richlandacademy.com/event/community-event-live-at-lunch/
LOCATION:Mechanics Bank\, 2 S Main St\, Mansfield\, OH\, 44902\, United States
END:VEVENT
BEGIN:VEVENT
DTSTART;TZID=America/New_York:20240611T070000
DTEND;TZID=America/New_York:20240611T100000
DTSTAMP:20260423T061350
CREATED:20240606T183011Z
LAST-MODIFIED:20240606T183011Z
UID:5056-1718089200-1718100000@richlandacademy.com
SUMMARY:Community Event: Cleveland Clinic Cancer Center Summer Food Truck Schedule
DESCRIPTION:
URL:https://richlandacademy.com/event/community-event-cleveland-clinic-cancer-center-summer-food-truck-schedule/
END:VEVENT
BEGIN:VEVENT
DTSTART;TZID=America/New_York:20240620T070000
DTEND;TZID=America/New_York:20240620T100000
DTSTAMP:20260423T061350
CREATED:20240606T183039Z
LAST-MODIFIED:20240606T183039Z
UID:5058-1718866800-1718877600@richlandacademy.com
SUMMARY:Community Event: Cleveland Clinic Cancer Center Summer Food Truck Schedule
DESCRIPTION:
URL:https://richlandacademy.com/event/community-event-cleveland-clinic-cancer-center-summer-food-truck-schedule-2/
END:VEVENT
BEGIN:VEVENT
DTSTART;TZID=America/New_York:20240621T073000
DTEND;TZID=America/New_York:20240621T093000
DTSTAMP:20260423T061350
CREATED:20240606T185840Z
LAST-MODIFIED:20240606T185840Z
UID:5071-1718955000-1718962200@richlandacademy.com
SUMMARY:Community Event: Live @ Lunch
DESCRIPTION:
URL:https://richlandacademy.com/event/community-event-live-lunch-7/
LOCATION:Mechanics Bank\, 2 S Main St\, Mansfield\, OH\, 44902\, United States
END:VEVENT
BEGIN:VEVENT
DTSTART;TZID=America/New_York:20240621T074500
DTEND;TZID=America/New_York:20240621T084500
DTSTAMP:20260423T061350
CREATED:20240610T190551Z
LAST-MODIFIED:20240610T190551Z
UID:5095-1718955900-1718959500@richlandacademy.com
SUMMARY:RAA Instructor Autumn Guest Instructor Kingwood Center
DESCRIPTION:RAA Instructor Autumn will be a guest instructor at Kingwood Center Gardens working with ages 6-9.
URL:https://richlandacademy.com/event/raa-instructor-autumn-guest-instructor-kingwood-center/
END:VEVENT
BEGIN:VEVENT
DTSTART;TZID=America/New_York:20240626T131500
DTEND;TZID=America/New_York:20240626T140000
DTSTAMP:20260423T061350
CREATED:20240423T202910Z
LAST-MODIFIED:20240613T015823Z
UID:4023-1719407700-1719410400@richlandacademy.com
SUMMARY:RAA Salsa for Scholarship
DESCRIPTION:
URL:https://richlandacademy.com/event/raa-salsa-for-scholarship/
LOCATION:Richland Academy of the Arts\, 75 North Walnut Street\, Mansfield\, OH\, 44902\, United States
END:VEVENT
BEGIN:VEVENT
DTSTART;TZID=America/New_York:20240627T140000
DTEND;TZID=America/New_York:20240627T160000
DTSTAMP:20260423T061350
CREATED:20240423T203007Z
LAST-MODIFIED:20240607T023906Z
UID:4024-1719496800-1719504000@richlandacademy.com
SUMMARY:RAA Scholarship Virtual Fundraiser
DESCRIPTION:Donate Now
URL:https://richlandacademy.com/event/raa-scholarship-virtual-fundraiser/
LOCATION:Richland Academy of the Arts\, 75 North Walnut Street\, Mansfield\, OH\, 44902\, United States
ORGANIZER;CN="Richland Academy of the Arts":MAILTO:Frontdesk@richlandacademy.com
END:VEVENT
BEGIN:VEVENT
DTSTART;TZID=America/New_York:20240627T150000
DTEND;TZID=America/New_York:20240627T150000
DTSTAMP:20260423T061350
CREATED:20240619T205413Z
LAST-MODIFIED:20240619T205413Z
UID:5131-1719500400-1719500400@richlandacademy.com
SUMMARY:Community Event: An Evening with Irving Berlin
DESCRIPTION:*Reservations Recommended
URL:https://richlandacademy.com/event/community-event-an-evening-with-irving-berlin/
LOCATION:DLX\, 28 N Main St\, Mansfield\, OH\, 44902\, United States
END:VEVENT
BEGIN:VEVENT
DTSTART;VALUE=DATE:20240630
DTEND;VALUE=DATE:20240702
DTSTAMP:20260423T061350
CREATED:20240423T202336Z
LAST-MODIFIED:20240423T202336Z
UID:4018-1719777600-1719863999@richlandacademy.com
SUMMARY:2nd Payment Summer Semester DUE
DESCRIPTION:
URL:https://richlandacademy.com/event/2nd-payment-summer-semester-due/
LOCATION:Richland Academy of the Arts\, 75 North Walnut Street\, Mansfield\, OH\, 44902\, United States
END:VEVENT
BEGIN:VEVENT
DTSTART;VALUE=DATE:20240703
DTEND;VALUE=DATE:20240705
DTSTAMP:20260423T061350
CREATED:20230818T231327Z
LAST-MODIFIED:20230725T231917Z
UID:2388-1720036800-1720123199@richlandacademy.com
SUMMARY:Independence Day
DESCRIPTION:RAA is Closed for Independence Day.
URL:https://richlandacademy.com/event/independence-day/
END:VEVENT
BEGIN:VEVENT
DTSTART;VALUE=DATE:20240704
DTEND;VALUE=DATE:20240706
DTSTAMP:20260423T061350
CREATED:20240320T231526Z
LAST-MODIFIED:20240320T231526Z
UID:3780-1720123200-1720209599@richlandacademy.com
SUMMARY:RAA is Closed
DESCRIPTION:RAA is Closed for Independence Day.
URL:https://richlandacademy.com/event/raa-is-closed/
END:VEVENT
BEGIN:VEVENT
DTSTART;TZID=America/New_York:20240712T073000
DTEND;TZID=America/New_York:20240712T093000
DTSTAMP:20260423T061350
CREATED:20240606T184220Z
LAST-MODIFIED:20240606T184430Z
UID:5065-1720769400-1720776600@richlandacademy.com
SUMMARY:Community Event: Live @ Lunch
DESCRIPTION:
URL:https://richlandacademy.com/event/community-event-live-lunch/
LOCATION:Mechanics Bank\, 2 S Main St\, Mansfield\, OH\, 44902\, United States
END:VEVENT
BEGIN:VEVENT
DTSTART;TZID=America/New_York:20240719T073000
DTEND;TZID=America/New_York:20240719T093000
DTSTAMP:20260423T061350
CREATED:20240606T185312Z
LAST-MODIFIED:20240606T185312Z
UID:5066-1721374200-1721381400@richlandacademy.com
SUMMARY:Community Event: Live @ Lunch
DESCRIPTION:
URL:https://richlandacademy.com/event/community-event-live-lunch-2/
LOCATION:Mechanics Bank\, 2 S Main St\, Mansfield\, OH\, 44902\, United States
END:VEVENT
BEGIN:VEVENT
DTSTART;TZID=America/New_York:20240719T140000
DTEND;TZID=America/New_York:20240719T160000
DTSTAMP:20260423T061350
CREATED:20240711T174852Z
LAST-MODIFIED:20240711T174852Z
UID:5216-1721397600-1721404800@richlandacademy.com
SUMMARY:Community Event: Skate Ohio's Attack the Spot -4th Street Closed
DESCRIPTION:4th Street between N. Walnut and N. Mulberry Street will be Closed
URL:https://richlandacademy.com/event/community-event-skate-ohios-attack-the-spot-4th-street-closed/
END:VEVENT
BEGIN:VEVENT
DTSTART;TZID=America/New_York:20240730T070000
DTEND;TZID=America/New_York:20240730T100000
DTSTAMP:20260423T061350
CREATED:20240606T183109Z
LAST-MODIFIED:20240606T183109Z
UID:5059-1722322800-1722333600@richlandacademy.com
SUMMARY:Community Event: Cleveland Clinic Cancer Center Summer Food Truck Schedule
DESCRIPTION:
URL:https://richlandacademy.com/event/community-event-cleveland-clinic-cancer-center-summer-food-truck-schedule-3/
END:VEVENT
BEGIN:VEVENT
DTSTART;TZID=America/New_York:20240802T073000
DTEND;TZID=America/New_York:20240802T093000
DTSTAMP:20260423T061350
CREATED:20240606T185336Z
LAST-MODIFIED:20240606T185336Z
UID:5067-1722583800-1722591000@richlandacademy.com
SUMMARY:Community Event: Live @ Lunch
DESCRIPTION:
URL:https://richlandacademy.com/event/community-event-live-lunch-3/
LOCATION:Mechanics Bank\, 2 S Main St\, Mansfield\, OH\, 44902\, United States
END:VEVENT
BEGIN:VEVENT
DTSTART;VALUE=DATE:20240804
DTEND;VALUE=DATE:20240806
DTSTAMP:20260423T061350
CREATED:20240423T202406Z
LAST-MODIFIED:20240423T202406Z
UID:4019-1722801600-1722887999@richlandacademy.com
SUMMARY:3rd and final Payment Summer Semester DUE
DESCRIPTION:
URL:https://richlandacademy.com/event/3rd-and-final-payment-summer-semester-due/
LOCATION:Richland Academy of the Arts\, 75 North Walnut Street\, Mansfield\, OH\, 44902\, United States
END:VEVENT
BEGIN:VEVENT
DTSTART;VALUE=DATE:20240804
DTEND;VALUE=DATE:20240810
DTSTAMP:20260423T061350
CREATED:20240423T202445Z
LAST-MODIFIED:20240423T202445Z
UID:4020-1722801600-1723233599@richlandacademy.com
SUMMARY:Last week of Summer Semester Classes at RAA
DESCRIPTION:
URL:https://richlandacademy.com/event/last-week-of-summer-semester-classes-at-raa/
LOCATION:Richland Academy of the Arts\, 75 North Walnut Street\, Mansfield\, OH\, 44902\, United States
END:VEVENT
BEGIN:VEVENT
DTSTART;TZID=America/New_York:20240810T080000
DTEND;TZID=America/New_York:20240810T110000
DTSTAMP:20260423T061350
CREATED:20240807T033322Z
LAST-MODIFIED:20240807T033447Z
UID:5316-1723276800-1723287600@richlandacademy.com
SUMMARY:Community Event: Annual Block Party
DESCRIPTION:
URL:https://richlandacademy.com/event/community-event-third-street-clinic-community-block-party/
END:VEVENT
BEGIN:VEVENT
DTSTART;VALUE=DATE:20240811
DTEND;VALUE=DATE:20240817
DTSTAMP:20260423T061350
CREATED:20240423T202528Z
LAST-MODIFIED:20240423T202528Z
UID:4021-1723406400-1723838399@richlandacademy.com
SUMMARY:Summer Make-up week and Last week of Kenpo Classes at RAA
DESCRIPTION:
URL:https://richlandacademy.com/event/summer-make-up-week-and-last-week-of-kenpo-classes-at-raa/
LOCATION:Richland Academy of the Arts\, 75 North Walnut Street\, Mansfield\, OH\, 44902\, United States
END:VEVENT
BEGIN:VEVENT
DTSTART;TZID=America/New_York:20240816T073000
DTEND;TZID=America/New_York:20240816T093000
DTSTAMP:20260423T061350
CREATED:20240606T185402Z
LAST-MODIFIED:20240606T185402Z
UID:5068-1723793400-1723800600@richlandacademy.com
SUMMARY:Community Event: Live @ Lunch
DESCRIPTION:
URL:https://richlandacademy.com/event/community-event-live-lunch-4/
LOCATION:Mechanics Bank\, 2 S Main St\, Mansfield\, OH\, 44902\, United States
END:VEVENT
BEGIN:VEVENT
DTSTART;TZID=America/New_York:20240821T200000
DTEND;TZID=America/New_York:20240929T200000
DTSTAMP:20260423T061350
CREATED:20240805T232832Z
LAST-MODIFIED:20240805T232832Z
UID:5310-1724270400-1727640000@richlandacademy.com
SUMMARY:RAA Empower the Arts Student Art Exhibit
DESCRIPTION:
URL:https://richlandacademy.com/event/raa-empower-the-arts-student-art-exhibit/
LOCATION:Richland Academy of the Arts\, 75 North Walnut Street\, Mansfield\, OH\, 44902\, United States
ORGANIZER;CN="Richland Academy of the Arts":MAILTO:Frontdesk@richlandacademy.com
END:VEVENT
BEGIN:VEVENT
DTSTART;VALUE=DATE:20240822
DTEND;VALUE=DATE:20240824
DTSTAMP:20260423T061350
CREATED:20240423T201954Z
LAST-MODIFIED:20240423T201954Z
UID:4014-1724356800-1724443199@richlandacademy.com
SUMMARY:Tuition Assistance Applications Due Fall 2024
DESCRIPTION:Fall ’24 Tuition Applications are due on August 23\, 2024
URL:https://richlandacademy.com/event/tuition-assistance-applications-due-fall-2024/
END:VEVENT
BEGIN:VEVENT
DTSTART;TZID=America/New_York:20240829T133000
DTEND;TZID=America/New_York:20240829T133000
DTSTAMP:20260423T061350
CREATED:20240318T181117Z
LAST-MODIFIED:20240318T181117Z
UID:3765-1724938200-1724938200@richlandacademy.com
SUMMARY:Community Event: The Kaleidoscope Series with author\, Amanda Ripley
DESCRIPTION:Participants will be challenged to look at conflict\, not only on the resolution side\, but the build ups and triggers that are the root of it. \nAmanda Ripley is a New York Times bestselling author and an investigative journalist who writes about human behavior and change for the Atlantic\, the Washington Post and other outlets. She is the author of High Conflict: Why We Get Trapped and How We Get Out\, TheSmartest Kids in the World–and How They Got That Way and The Unthinkable: Who Survives When Disaster Strikes\, and Why\, and she is the host of the Slate podcast\, How To! \nThe Kaleidoscope Series is a speaker series based on the understanding that the problems facing our community are complex with no easy solutions. But\, we also know lasting progress cannot occur without the ability to look at these problems with fresh eyes from different angles… like a kaleidoscope. The 2024 Kaleidoscope Series is an open invitation to anyone and everyone to do just that\, together. You will have the opportunity to consider new ideas\, be challenged through different perspectives\, and engage with every corner of our community.
URL:https://richlandacademy.com/event/community-event-the-kaleidoscope-series-with-author-amanda-ripley/
LOCATION:Renaissance Theatre\, 138 Park Avenue West\, Mansfield\, OH\, 44902\, United States
END:VEVENT
BEGIN:VEVENT
DTSTART;VALUE=DATE:20240902
DTEND;VALUE=DATE:20240904
DTSTAMP:20260423T061351
CREATED:20240809T021410Z
LAST-MODIFIED:20240809T021420Z
UID:5333-1725307200-1725393599@richlandacademy.com
SUMMARY:1st Payment Fall Semester DUE
DESCRIPTION:
URL:https://richlandacademy.com/event/1st-payment-fall-semester-due/
LOCATION:Richland Academy of the Arts\, 75 North Walnut Street\, Mansfield\, OH\, 44902\, United States
END:VEVENT
BEGIN:VEVENT
DTSTART;VALUE=DATE:20240902
DTEND;VALUE=DATE:20240904
DTSTAMP:20260423T061351
CREATED:20240809T023111Z
LAST-MODIFIED:20240809T023111Z
UID:5348-1725307200-1725393599@richlandacademy.com
SUMMARY:Fall Semester Begins
DESCRIPTION:1st day of Fall semester classes
URL:https://richlandacademy.com/event/fall-semester-begins-2/
END:VEVENT
END:VCALENDAR