BEGIN:VCALENDAR
VERSION:2.0
PRODID:-//Richland Academy of the Arts - ECPv6.15.20//NONSGML v1.0//EN
CALSCALE:GREGORIAN
METHOD:PUBLISH
X-WR-CALNAME:Richland Academy of the Arts
X-ORIGINAL-URL:https://richlandacademy.com
X-WR-CALDESC:Events for Richland Academy of the Arts
REFRESH-INTERVAL;VALUE=DURATION:PT1H
X-Robots-Tag:noindex
X-PUBLISHED-TTL:PT1H
BEGIN:VTIMEZONE
TZID:America/New_York
BEGIN:DAYLIGHT
TZOFFSETFROM:-0500
TZOFFSETTO:-0400
TZNAME:EDT
DTSTART:20230312T070000
END:DAYLIGHT
BEGIN:STANDARD
TZOFFSETFROM:-0400
TZOFFSETTO:-0500
TZNAME:EST
DTSTART:20231105T060000
END:STANDARD
BEGIN:DAYLIGHT
TZOFFSETFROM:-0500
TZOFFSETTO:-0400
TZNAME:EDT
DTSTART:20240310T070000
END:DAYLIGHT
BEGIN:STANDARD
TZOFFSETFROM:-0400
TZOFFSETTO:-0500
TZNAME:EST
DTSTART:20241103T060000
END:STANDARD
BEGIN:DAYLIGHT
TZOFFSETFROM:-0500
TZOFFSETTO:-0400
TZNAME:EDT
DTSTART:20250309T070000
END:DAYLIGHT
BEGIN:STANDARD
TZOFFSETFROM:-0400
TZOFFSETTO:-0500
TZNAME:EST
DTSTART:20251102T060000
END:STANDARD
END:VTIMEZONE
BEGIN:VEVENT
DTSTART;VALUE=DATE:20240630
DTEND;VALUE=DATE:20240702
DTSTAMP:20260425T092115
CREATED:20240423T202336Z
LAST-MODIFIED:20240423T202336Z
UID:4018-1719777600-1719863999@richlandacademy.com
SUMMARY:2nd Payment Summer Semester DUE
DESCRIPTION:
URL:https://richlandacademy.com/event/2nd-payment-summer-semester-due/
LOCATION:Richland Academy of the Arts\, 75 North Walnut Street\, Mansfield\, OH\, 44902\, United States
END:VEVENT
BEGIN:VEVENT
DTSTART;VALUE=DATE:20240703
DTEND;VALUE=DATE:20240705
DTSTAMP:20260425T092115
CREATED:20230818T231327Z
LAST-MODIFIED:20230725T231917Z
UID:2388-1720036800-1720123199@richlandacademy.com
SUMMARY:Independence Day
DESCRIPTION:RAA is Closed for Independence Day.
URL:https://richlandacademy.com/event/independence-day/
END:VEVENT
BEGIN:VEVENT
DTSTART;VALUE=DATE:20240704
DTEND;VALUE=DATE:20240706
DTSTAMP:20260425T092115
CREATED:20240320T231526Z
LAST-MODIFIED:20240320T231526Z
UID:3780-1720123200-1720209599@richlandacademy.com
SUMMARY:RAA is Closed
DESCRIPTION:RAA is Closed for Independence Day.
URL:https://richlandacademy.com/event/raa-is-closed/
END:VEVENT
BEGIN:VEVENT
DTSTART;TZID=America/New_York:20240712T073000
DTEND;TZID=America/New_York:20240712T093000
DTSTAMP:20260425T092115
CREATED:20240606T184220Z
LAST-MODIFIED:20240606T184430Z
UID:5065-1720769400-1720776600@richlandacademy.com
SUMMARY:Community Event: Live @ Lunch
DESCRIPTION:
URL:https://richlandacademy.com/event/community-event-live-lunch/
LOCATION:Mechanics Bank\, 2 S Main St\, Mansfield\, OH\, 44902\, United States
END:VEVENT
BEGIN:VEVENT
DTSTART;TZID=America/New_York:20240719T073000
DTEND;TZID=America/New_York:20240719T093000
DTSTAMP:20260425T092115
CREATED:20240606T185312Z
LAST-MODIFIED:20240606T185312Z
UID:5066-1721374200-1721381400@richlandacademy.com
SUMMARY:Community Event: Live @ Lunch
DESCRIPTION:
URL:https://richlandacademy.com/event/community-event-live-lunch-2/
LOCATION:Mechanics Bank\, 2 S Main St\, Mansfield\, OH\, 44902\, United States
END:VEVENT
BEGIN:VEVENT
DTSTART;TZID=America/New_York:20240719T140000
DTEND;TZID=America/New_York:20240719T160000
DTSTAMP:20260425T092115
CREATED:20240711T174852Z
LAST-MODIFIED:20240711T174852Z
UID:5216-1721397600-1721404800@richlandacademy.com
SUMMARY:Community Event: Skate Ohio's Attack the Spot -4th Street Closed
DESCRIPTION:4th Street between N. Walnut and N. Mulberry Street will be Closed
URL:https://richlandacademy.com/event/community-event-skate-ohios-attack-the-spot-4th-street-closed/
END:VEVENT
BEGIN:VEVENT
DTSTART;TZID=America/New_York:20240730T070000
DTEND;TZID=America/New_York:20240730T100000
DTSTAMP:20260425T092115
CREATED:20240606T183109Z
LAST-MODIFIED:20240606T183109Z
UID:5059-1722322800-1722333600@richlandacademy.com
SUMMARY:Community Event: Cleveland Clinic Cancer Center Summer Food Truck Schedule
DESCRIPTION:
URL:https://richlandacademy.com/event/community-event-cleveland-clinic-cancer-center-summer-food-truck-schedule-3/
END:VEVENT
END:VCALENDAR